BEGIN:VCALENDAR
VERSION:2.0
PRODID:-//ARA Events - ECPv6.15.16//NONSGML v1.0//EN
CALSCALE:GREGORIAN
METHOD:PUBLISH
X-ORIGINAL-URL:https://www.events.ara.bc.ca
X-WR-CALDESC:Events for ARA Events
REFRESH-INTERVAL;VALUE=DURATION:PT1H
X-Robots-Tag:noindex
X-PUBLISHED-TTL:PT1H
BEGIN:VTIMEZONE
TZID:America/Vancouver
BEGIN:DAYLIGHT
TZOFFSETFROM:-0800
TZOFFSETTO:-0700
TZNAME:PDT
DTSTART:20240310T100000
END:DAYLIGHT
BEGIN:STANDARD
TZOFFSETFROM:-0700
TZOFFSETTO:-0800
TZNAME:PST
DTSTART:20241103T090000
END:STANDARD
BEGIN:DAYLIGHT
TZOFFSETFROM:-0800
TZOFFSETTO:-0700
TZNAME:PDT
DTSTART:20250309T100000
END:DAYLIGHT
BEGIN:STANDARD
TZOFFSETFROM:-0700
TZOFFSETTO:-0800
TZNAME:PST
DTSTART:20251102T090000
END:STANDARD
BEGIN:DAYLIGHT
TZOFFSETFROM:-0800
TZOFFSETTO:-0700
TZNAME:PDT
DTSTART:20260308T100000
END:DAYLIGHT
BEGIN:STANDARD
TZOFFSETFROM:-0700
TZOFFSETTO:-0800
TZNAME:PST
DTSTART:20261101T090000
END:STANDARD
END:VTIMEZONE
BEGIN:VEVENT
DTSTART;TZID=America/Vancouver:20250619T180000
DTEND;TZID=America/Vancouver:20250619T210000
DTSTAMP:20260424T201301
CREATED:20250523T153726Z
LAST-MODIFIED:20250526T175857Z
UID:4443-1750356000-1750366800@www.events.ara.bc.ca
SUMMARY:Towing and Recovery Networking Social
DESCRIPTION:ARA TRD Networking Social  – Langley\n\nCome join the ARA team for our 2nd Towing and Recovery Network Social. Meet others in the industry and hear the latest updates from the ARA. \nWhere:\nMatch Eatery\nCascades Casino\n20393 Fraser Hwy\nLangley\, B.C \nWhen:\nJune 19\, 2025\n6:00 PM – 9:00 PM \nRegister now – https://www.eventcamp.ca/event/towing-and-recovery-networking-social \nNotes: This is a non-sponsored event. Everyone will be responsible for their own costs. This meeting is open to everyone associated with the towing and recovery industry in BC.  There is a limited number of registrations available for this event. You must register before June 12th. \n 
URL:https://www.events.ara.bc.ca/event/towing-and-recovery-networking-social/
LOCATION:Match Eatery and Public House (Cascade Casino)\, 6005 BC-17A\, Delta\, British Columbia\, V4K 5B8\, Canada
ATTACH;FMTTYPE=image/webp:https://www.events.ara.bc.ca/wp-content/uploads/2025/05/TRD-Networking-Social-June-2025-scaled.webp
ORGANIZER;CN="ARA":MAILTO:eventsplanning@ara.bc.ca
END:VEVENT
END:VCALENDAR